BEGIN:VCALENDAR
VERSION:2.0
PRODID:-//Stockverkoopinfo - ECPv5.12.3//NONSGML v1.0//EN
CALSCALE:GREGORIAN
METHOD:PUBLISH
X-WR-CALNAME:Stockverkoopinfo
X-ORIGINAL-URL:https://stockverkoopinfo.be
X-WR-CALDESC:Evenementen voor Stockverkoopinfo
REFRESH-INTERVAL;VALUE=DURATION:PT1H
X-Robots-Tag:noindex
X-PUBLISHED-TTL:PT1H
BEGIN:VTIMEZONE
TZID:UTC
BEGIN:STANDARD
TZOFFSETFROM:+0000
TZOFFSETTO:+0000
TZNAME:UTC
DTSTART:20220101T000000
END:STANDARD
END:VTIMEZONE
BEGIN:VEVENT
DTSTART;TZID=UTC:20221125T130000
DTEND;TZID=UTC:20221127T170000
DTSTAMP:20260423T142703
CREATED:20221119T130256Z
LAST-MODIFIED:20221119T130256Z
UID:4112-1669381200-1669568400@stockverkoopinfo.be
SUMMARY:Ambertree Interieur Stocksale
DESCRIPTION:Vrijdag 25\, zaterdag 26 en zondag 27 november is het weer Stocksale time! \nEen unieke kans om toonzaalmodellen\, stockmodellen en laatste stuks op de kop te tikken aan uitzonderlijke kortingen. \nZoals steeds vind je er een ruim aanbod aan sofa’s\, tafels\, stoelen\, krukken\, tapijten\, decoratie\, verlichting\, sierkussens\, plaids en zoveel meer. \nPlace to be is De Wolkammerij\, Adolf Greinerstraat 12\, 2660 Antwerpen. \nOpeningsuren:\nVrijdag 25/11: 13u-18u\nZaterdag 26/11: 13u-18u\nZondag 27/11: 13u-17u \n— \nTijdens onze stocksale vindt ook het Black Friday weekend plaats in onze showroom.\nDaar geniet je van maar liefst 15% korting op alle sofa’s en 10% korting op Ethnicraft
URL:https://stockverkoopinfo.be/verkoop/ambertree-interieur-stocksale
LOCATION:De Wolkammerij\, Adolf Greinerstraat 12\, Antwerpen (Hoboken)\, Antwerpen\, 2660\, België
ATTACH;FMTTYPE=image/jpeg:https://stockverkoopinfo.be/wp-content/uploads/2022/11/2022-11-stocksale-google-post.jpg
ORGANIZER;CN="Ambertree":MAILTO:hello@ambertree.be
END:VEVENT
BEGIN:VEVENT
DTSTART;TZID=UTC:20220423T130000
DTEND;TZID=UTC:20220423T180000
DTSTAMP:20260423T142703
CREATED:20220418T121025Z
LAST-MODIFIED:20220419T095908Z
UID:3506-1650718800-1650736800@stockverkoopinfo.be
SUMMARY:Ambertree Interieur Stocksale (23-24 april)
DESCRIPTION:Het aftellen kan beginnen: zaterdag 23 en zondag 24 april is het weer Stocksale time! \nEen unieke kans om toonzaalmodellen\, stockmodellen en laatste stuks op de kop te tikken aan uitzonderlijke kortingen. \nZoals steeds vind je er een ruim aanbod aan sofa’s\, tafels\, stoelen\, tapijten\, decoratie\, verlichting\, sierkussens\, plaids en zoveel meer. \nPlace to be is De Wolkammerij in de Adolf Greinerstraat 12 te Hoboken. \nWe verwelkomen jullie op zaterdag 23/04 van 13u tot 18u en op zondag 24/04 van 13u tot 17u. \nTot dan!
URL:https://stockverkoopinfo.be/verkoop/ambertree-interieur-stocksale-23-24-april
LOCATION:De Wolkammerij\, Adolf Greinerstraat 12\, Antwerpen (Hoboken)\, Antwerpen\, 2660\, België
CATEGORIES:interieur,Wonen
ATTACH;FMTTYPE=image/jpeg:https://stockverkoopinfo.be/wp-content/uploads/2022/04/Ambertree-stocksale-2022-breed-zonder-lamp55.jpg
ORGANIZER;CN="Ambertree":MAILTO:hello@ambertree.be
END:VEVENT
END:VCALENDAR