BEGIN:VCALENDAR
VERSION:2.0
PRODID:-//Stockverkoopinfo - ECPv5.12.3//NONSGML v1.0//EN
CALSCALE:GREGORIAN
METHOD:PUBLISH
X-WR-CALNAME:Stockverkoopinfo
X-ORIGINAL-URL:https://stockverkoopinfo.be
X-WR-CALDESC:Evenementen voor Stockverkoopinfo
REFRESH-INTERVAL;VALUE=DURATION:PT1H
X-Robots-Tag:noindex
X-PUBLISHED-TTL:PT1H
BEGIN:VTIMEZONE
TZID:UTC
BEGIN:STANDARD
TZOFFSETFROM:+0000
TZOFFSETTO:+0000
TZNAME:UTC
DTSTART:20250101T000000
END:STANDARD
END:VTIMEZONE
BEGIN:VEVENT
DTSTART;TZID=UTC:20251207T090000
DTEND;TZID=UTC:20251209T180000
DTSTAMP:20260421T111803
CREATED:20251201T105703Z
LAST-MODIFIED:20251201T105703Z
UID:5129-1765098000-1765303200@stockverkoopinfo.be
SUMMARY:SEMPRE STOCKSALE IN&OUTDOOR MEUBILAIR\, DECORATIE\, GLASWERK
DESCRIPTION:De Sempre stockverkoop is terug! Van 5 tem 7 december krijg je de unieke kans om iconische stukken van Sempre te scoren met kortingen tot 80% – showroommodellen\, prototypes en einde reeksen. Alles moet weg! \nEn er is meer: de 100ste\, 200ste en 500ste die zich inschrijven voor de stockverkoop winnen respectievelijk een waardebon van 100 EUR\, 200 EUR en zelfs 500 EUR ! \n👋 Uitzonderlijk open voor particulieren \n🔗 Registreer je nu via onderstaande link en maak kans op één van onze waardebonnen ! \nStock sale 2025
URL:https://stockverkoopinfo.be/verkoop/sempre-stocksale-inoutdoor-meubilair-decoratie-glaswerk/2025-12-07
LOCATION:Grenssstraat 18\, herenthout\, Grensstraat 18\, Herenthout\, 2270\, Belgium
ATTACH;FMTTYPE=image/jpeg:https://stockverkoopinfo.be/wp-content/uploads/2025/12/A6-flyer-Sempre-stocksale-versie-2-DRUK_page-0001.jpg
ORGANIZER;CN="Sempre":MAILTO:info@sempre.be
END:VEVENT
END:VCALENDAR